BEGIN:VCALENDAR
VERSION:2.0
PRODID:-//Rainey Endowed School - ECPv6.15.11//NONSGML v1.0//EN
CALSCALE:GREGORIAN
METHOD:PUBLISH
X-ORIGINAL-URL:https://raineyendowed.com
X-WR-CALDESC:Events for Rainey Endowed School
REFRESH-INTERVAL;VALUE=DURATION:PT1H
X-Robots-Tag:noindex
X-PUBLISHED-TTL:PT1H
BEGIN:VTIMEZONE
TZID:Europe/London
BEGIN:DAYLIGHT
TZOFFSETFROM:+0000
TZOFFSETTO:+0100
TZNAME:BST
DTSTART:20240331T010000
END:DAYLIGHT
BEGIN:STANDARD
TZOFFSETFROM:+0100
TZOFFSETTO:+0000
TZNAME:GMT
DTSTART:20241027T010000
END:STANDARD
BEGIN:DAYLIGHT
TZOFFSETFROM:+0000
TZOFFSETTO:+0100
TZNAME:BST
DTSTART:20250330T010000
END:DAYLIGHT
BEGIN:STANDARD
TZOFFSETFROM:+0100
TZOFFSETTO:+0000
TZNAME:GMT
DTSTART:20251026T010000
END:STANDARD
BEGIN:DAYLIGHT
TZOFFSETFROM:+0000
TZOFFSETTO:+0100
TZNAME:BST
DTSTART:20260329T010000
END:DAYLIGHT
BEGIN:STANDARD
TZOFFSETFROM:+0100
TZOFFSETTO:+0000
TZNAME:GMT
DTSTART:20261025T010000
END:STANDARD
END:VTIMEZONE
BEGIN:VEVENT
DTSTART;VALUE=DATE:20250330
DTEND;VALUE=DATE:20250402
DTSTAMP:20260423T043534
CREATED:20250304T102659Z
LAST-MODIFIED:20250304T102659Z
UID:17888-1743292800-1743551999@raineyendowed.com
SUMMARY:Daphne Hall All Irelands Hockey
DESCRIPTION:
URL:https://raineyendowed.com/event/daphne-hall-all-irelands-hockey/
ATTACH;FMTTYPE=image/png:https://raineyendowed.com/wp-content/uploads/2025/03/Hockey-Ireland-Icon-Logo-RGB-300x300-1.png
END:VEVENT
END:VCALENDAR