BEGIN:VCALENDAR
VERSION:2.0
PRODID:-//Rainey Endowed School - ECPv6.15.11//NONSGML v1.0//EN
CALSCALE:GREGORIAN
METHOD:PUBLISH
X-WR-CALNAME:Rainey Endowed School
X-ORIGINAL-URL:https://raineyendowed.com
X-WR-CALDESC:Events for Rainey Endowed School
REFRESH-INTERVAL;VALUE=DURATION:PT1H
X-Robots-Tag:noindex
X-PUBLISHED-TTL:PT1H
BEGIN:VTIMEZONE
TZID:Europe/London
BEGIN:DAYLIGHT
TZOFFSETFROM:+0000
TZOFFSETTO:+0100
TZNAME:BST
DTSTART:20240331T010000
END:DAYLIGHT
BEGIN:STANDARD
TZOFFSETFROM:+0100
TZOFFSETTO:+0000
TZNAME:GMT
DTSTART:20241027T010000
END:STANDARD
BEGIN:DAYLIGHT
TZOFFSETFROM:+0000
TZOFFSETTO:+0100
TZNAME:BST
DTSTART:20250330T010000
END:DAYLIGHT
BEGIN:STANDARD
TZOFFSETFROM:+0100
TZOFFSETTO:+0000
TZNAME:GMT
DTSTART:20251026T010000
END:STANDARD
BEGIN:DAYLIGHT
TZOFFSETFROM:+0000
TZOFFSETTO:+0100
TZNAME:BST
DTSTART:20260329T010000
END:DAYLIGHT
BEGIN:STANDARD
TZOFFSETFROM:+0100
TZOFFSETTO:+0000
TZNAME:GMT
DTSTART:20261025T010000
END:STANDARD
BEGIN:DAYLIGHT
TZOFFSETFROM:+0000
TZOFFSETTO:+0100
TZNAME:BST
DTSTART:20270328T010000
END:DAYLIGHT
BEGIN:STANDARD
TZOFFSETFROM:+0100
TZOFFSETTO:+0000
TZNAME:GMT
DTSTART:20271031T010000
END:STANDARD
END:VTIMEZONE
BEGIN:VEVENT
DTSTART;VALUE=DATE:20250604
DTEND;VALUE=DATE:20250612
DTSTAMP:20260423T093459
CREATED:20250415T104259Z
LAST-MODIFIED:20250415T104259Z
UID:17944-1748995200-1749686399@raineyendowed.com
SUMMARY:Internal Exams
DESCRIPTION:
URL:https://raineyendowed.com/event/internal-exams/
ATTACH;FMTTYPE=image/jpeg:https://raineyendowed.com/wp-content/uploads/2023/12/Exams.jpg
END:VEVENT
BEGIN:VEVENT
DTSTART;VALUE=DATE:20250623
DTEND;VALUE=DATE:20250628
DTSTAMP:20260423T093459
CREATED:20250415T104352Z
LAST-MODIFIED:20250415T104352Z
UID:17946-1750636800-1751068799@raineyendowed.com
SUMMARY:Year 9 Paris Trip
DESCRIPTION:
URL:https://raineyendowed.com/event/year-9-paris-trip-2/
ATTACH;FMTTYPE=image/jpeg:https://raineyendowed.com/wp-content/uploads/2024/03/Paris-scaled.jpg
END:VEVENT
BEGIN:VEVENT
DTSTART;VALUE=DATE:20250623
DTEND;VALUE=DATE:20250705
DTSTAMP:20260423T093459
CREATED:20250415T104440Z
LAST-MODIFIED:20250415T104440Z
UID:17948-1750636800-1751673599@raineyendowed.com
SUMMARY:Year 13/14 Abaana Uganda Trip
DESCRIPTION:
URL:https://raineyendowed.com/event/year-13-14-abaana-uganda-trip/
ATTACH;FMTTYPE=image/png:https://raineyendowed.com/wp-content/uploads/2020/06/Abaana-Logo-Abaana-Red.png
END:VEVENT
BEGIN:VEVENT
DTSTART;TZID=Europe/London:20250627T084500
DTEND;TZID=Europe/London:20250627T120000
DTSTAMP:20260423T093459
CREATED:20250415T104852Z
LAST-MODIFIED:20250415T104852Z
UID:17950-1751013900-1751025600@raineyendowed.com
SUMMARY:End of Term: School will close at 12.00 pm
DESCRIPTION:
URL:https://raineyendowed.com/event/end-of-term-school-will-close-at-12-00-pm-2/
ATTACH;FMTTYPE=image/png:https://raineyendowed.com/wp-content/uploads/2025/04/Summer.png
END:VEVENT
BEGIN:VEVENT
DTSTART;VALUE=DATE:20251115
DTEND;VALUE=DATE:20251116
DTSTAMP:20260423T093459
CREATED:20240724T134138Z
LAST-MODIFIED:20251114T112150Z
UID:17488-1763164800-1763251199@raineyendowed.com
SUMMARY:Entrance Assessment Morning - Assessment Paper 1
DESCRIPTION:
URL:https://raineyendowed.com/event/entrance-assessment-morning-assessment-paper-1-2/
ATTACH;FMTTYPE=image/jpeg:https://raineyendowed.com/wp-content/uploads/2024/07/SEAG.jpg
END:VEVENT
BEGIN:VEVENT
DTSTART;VALUE=DATE:20251122
DTEND;VALUE=DATE:20251123
DTSTAMP:20260423T093459
CREATED:20240724T134204Z
LAST-MODIFIED:20251114T112214Z
UID:17490-1763769600-1763855999@raineyendowed.com
SUMMARY:Entrance Assessment Morning - Assessment Paper 2
DESCRIPTION:
URL:https://raineyendowed.com/event/entrance-assessment-morning-assessment-paper-2-2/
ATTACH;FMTTYPE=image/jpeg:https://raineyendowed.com/wp-content/uploads/2024/07/SEAG.jpg
END:VEVENT
BEGIN:VEVENT
DTSTART;TZID=Europe/London:20251124T133000
DTEND;TZID=Europe/London:20251124T153000
DTSTAMP:20260423T093459
CREATED:20251114T112831Z
LAST-MODIFIED:20251114T112831Z
UID:18338-1763991000-1763998200@raineyendowed.com
SUMMARY:Cyberfirst Competition
DESCRIPTION:
URL:https://raineyendowed.com/event/cyberfirst-competition/
ATTACH;FMTTYPE=image/jpeg:https://raineyendowed.com/wp-content/uploads/2025/11/CyberfirstLogo.jpg
END:VEVENT
BEGIN:VEVENT
DTSTART;VALUE=DATE:20251126
DTEND;VALUE=DATE:20251127
DTSTAMP:20260423T093459
CREATED:20251114T113427Z
LAST-MODIFIED:20251114T113427Z
UID:18341-1764115200-1764201599@raineyendowed.com
SUMMARY:Year 14 Interview Skills Day
DESCRIPTION:
URL:https://raineyendowed.com/event/year-14-interview-skills-day/
ATTACH;FMTTYPE=image/png:https://raineyendowed.com/wp-content/uploads/2025/11/Interview-Skills.png
END:VEVENT
BEGIN:VEVENT
DTSTART;VALUE=DATE:20251127
DTEND;VALUE=DATE:20251203
DTSTAMP:20260423T093459
CREATED:20251114T122559Z
LAST-MODIFIED:20251114T122559Z
UID:18353-1764201600-1764719999@raineyendowed.com
SUMMARY:Scholastic Book Fair
DESCRIPTION:Open Break and Lunch in the Library
URL:https://raineyendowed.com/event/scholastic-book-fair/
ATTACH;FMTTYPE=image/jpeg:https://raineyendowed.com/wp-content/uploads/2025/11/fairs-social-image-v2-2376236.jpg
END:VEVENT
BEGIN:VEVENT
DTSTART;TZID=Europe/London:20251203T130000
DTEND;TZID=Europe/London:20251203T153000
DTSTAMP:20260423T093459
CREATED:20251114T114025Z
LAST-MODIFIED:20251114T115327Z
UID:18346-1764766800-1764775800@raineyendowed.com
SUMMARY:Year 11 Parent Information Meeting
DESCRIPTION:
URL:https://raineyendowed.com/event/year-11-parent-information-meeting-3/
ATTACH;FMTTYPE=image/png:https://raineyendowed.com/wp-content/uploads/2025/11/Parent-Information-Meeting-1.png
END:VEVENT
BEGIN:VEVENT
DTSTART;VALUE=DATE:20251209
DTEND;VALUE=DATE:20251212
DTSTAMP:20260423T093459
CREATED:20240724T134351Z
LAST-MODIFIED:20251114T112120Z
UID:17494-1765238400-1765497599@raineyendowed.com
SUMMARY:Christmas Dinner
DESCRIPTION:
URL:https://raineyendowed.com/event/christmas-dinner-2/
ATTACH;FMTTYPE=image/jpeg:https://raineyendowed.com/wp-content/uploads/2023/10/Christmas-Dinner.jpeg
END:VEVENT
BEGIN:VEVENT
DTSTART;TZID=Europe/London:20251217T133000
DTEND;TZID=Europe/London:20251217T153000
DTSTAMP:20260423T093459
CREATED:20251127T101112Z
LAST-MODIFIED:20251127T101112Z
UID:18419-1765978200-1765985400@raineyendowed.com
SUMMARY:Carol Service Matinee Performance
DESCRIPTION:
URL:https://raineyendowed.com/event/carol-service-matinee-performance/
ATTACH;FMTTYPE=image/png:https://raineyendowed.com/wp-content/uploads/2025/11/Carol-Service-2025.png
END:VEVENT
BEGIN:VEVENT
DTSTART;TZID=Europe/London:20251217T190000
DTEND;TZID=Europe/London:20251217T210000
DTSTAMP:20260423T093459
CREATED:20251127T101149Z
LAST-MODIFIED:20251127T101149Z
UID:18422-1765998000-1766005200@raineyendowed.com
SUMMARY:Carol Service
DESCRIPTION:
URL:https://raineyendowed.com/event/carol-service/
ATTACH;FMTTYPE=image/png:https://raineyendowed.com/wp-content/uploads/2025/11/Carol-Service-2025.png
END:VEVENT
BEGIN:VEVENT
DTSTART;TZID=Europe/London:20251218T083000
DTEND;TZID=Europe/London:20251218T153000
DTSTAMP:20260423T093459
CREATED:20251114T115459Z
LAST-MODIFIED:20251114T115459Z
UID:18351-1766046600-1766071800@raineyendowed.com
SUMMARY:End of Term:  School will close at 3.30pm
DESCRIPTION:
URL:https://raineyendowed.com/event/end-of-term-school-will-close-at-3-30pm/
ATTACH;FMTTYPE=image/jpeg:https://raineyendowed.com/wp-content/uploads/2023/10/Christmas.jpg
END:VEVENT
BEGIN:VEVENT
DTSTART;VALUE=DATE:20260105
DTEND;VALUE=DATE:20260106
DTSTAMP:20260423T093459
CREATED:20251201T121219Z
LAST-MODIFIED:20251201T121219Z
UID:18431-1767571200-1767657599@raineyendowed.com
SUMMARY:Staff Development Day
DESCRIPTION:
URL:https://raineyendowed.com/event/staff-development-day-4/
ATTACH;FMTTYPE=image/jpeg:https://raineyendowed.com/wp-content/uploads/2025/04/SDD.jpg
END:VEVENT
BEGIN:VEVENT
DTSTART;VALUE=DATE:20260106
DTEND;VALUE=DATE:20260107
DTSTAMP:20260423T093459
CREATED:20251201T121135Z
LAST-MODIFIED:20251201T121135Z
UID:18429-1767657600-1767743999@raineyendowed.com
SUMMARY:Start of Term
DESCRIPTION:
URL:https://raineyendowed.com/event/start-of-term-3/
ATTACH;FMTTYPE=image/jpeg:https://raineyendowed.com/wp-content/uploads/2024/07/Start-of-Term-1.jpg
END:VEVENT
BEGIN:VEVENT
DTSTART;TZID=Europe/London:20260122T144500
DTEND;TZID=Europe/London:20260122T213000
DTSTAMP:20260423T093459
CREATED:20251201T121356Z
LAST-MODIFIED:20260108T092158Z
UID:18433-1769093100-1769117400@raineyendowed.com
SUMMARY:Open Day Tours
DESCRIPTION:
URL:https://raineyendowed.com/event/open-day-tours/
ATTACH;FMTTYPE=image/jpeg:https://raineyendowed.com/wp-content/uploads/2025/12/Ad-Open-day-26.jpg
END:VEVENT
BEGIN:VEVENT
DTSTART;VALUE=DATE:20260123
DTEND;VALUE=DATE:20260124
DTSTAMP:20260423T093459
CREATED:20251201T121514Z
LAST-MODIFIED:20251201T121514Z
UID:18437-1769126400-1769212799@raineyendowed.com
SUMMARY:Staff Development Day
DESCRIPTION:
URL:https://raineyendowed.com/event/staff-development-day-5/
ATTACH;FMTTYPE=image/jpeg:https://raineyendowed.com/wp-content/uploads/2025/04/SDD.jpg
END:VEVENT
BEGIN:VEVENT
DTSTART;TZID=Europe/London:20260126T080000
DTEND;TZID=Europe/London:20260130T153000
DTSTAMP:20260423T093459
CREATED:20251201T121645Z
LAST-MODIFIED:20251201T121645Z
UID:18441-1769414400-1769787000@raineyendowed.com
SUMMARY:Year 10-12 Internal Exams
DESCRIPTION:
URL:https://raineyendowed.com/event/year-10-12-internal-exams/
ATTACH;FMTTYPE=image/jpeg:https://raineyendowed.com/wp-content/uploads/2023/12/Exams.jpg
END:VEVENT
BEGIN:VEVENT
DTSTART;TZID=Europe/London:20260202T090000
DTEND;TZID=Europe/London:20260206T153000
DTSTAMP:20260423T093459
CREATED:20251201T121957Z
LAST-MODIFIED:20251201T121957Z
UID:18443-1770022800-1770391800@raineyendowed.com
SUMMARY:Mock Exams
DESCRIPTION:
URL:https://raineyendowed.com/event/mock-exams/
ATTACH;FMTTYPE=image/png:https://raineyendowed.com/wp-content/uploads/2025/12/Mock-Exams.png
END:VEVENT
BEGIN:VEVENT
DTSTART;VALUE=DATE:20260209
DTEND;VALUE=DATE:20260214
DTSTAMP:20260423T093459
CREATED:20251201T122043Z
LAST-MODIFIED:20251201T122043Z
UID:18446-1770595200-1771027199@raineyendowed.com
SUMMARY:Half Term
DESCRIPTION:
URL:https://raineyendowed.com/event/half-term-4/
ATTACH;FMTTYPE=image/png:https://raineyendowed.com/wp-content/uploads/2024/11/Spring-Half-Term.png
END:VEVENT
BEGIN:VEVENT
DTSTART;VALUE=DATE:20260216
DTEND;VALUE=DATE:20260217
DTSTAMP:20260423T093459
CREATED:20260108T092946Z
LAST-MODIFIED:20260108T092946Z
UID:18467-1771200000-1771286399@raineyendowed.com
SUMMARY:Start of Term
DESCRIPTION:
URL:https://raineyendowed.com/event/start-of-term-4/
ATTACH;FMTTYPE=image/jpeg:https://raineyendowed.com/wp-content/uploads/2026/01/Start-of-Term.jpg
END:VEVENT
BEGIN:VEVENT
DTSTART;TZID=Europe/London:20260220T091500
DTEND;TZID=Europe/London:20260220T110000
DTSTAMP:20260423T093459
CREATED:20260108T093216Z
LAST-MODIFIED:20260108T093216Z
UID:18470-1771578900-1771585200@raineyendowed.com
SUMMARY:Onatti Theatre Group Spanish play
DESCRIPTION:
URL:https://raineyendowed.com/event/onatti-theatre-group-spanish-play/
ATTACH;FMTTYPE=image/jpeg:https://raineyendowed.com/wp-content/uploads/2026/01/Onatti.jpg
END:VEVENT
BEGIN:VEVENT
DTSTART;TZID=Europe/London:20260223T083000
DTEND;TZID=Europe/London:20260223T143000
DTSTAMP:20260423T093459
CREATED:20260108T093350Z
LAST-MODIFIED:20260108T093350Z
UID:18473-1771835400-1771857000@raineyendowed.com
SUMMARY:Year  13 Coca Cola Industrial visit
DESCRIPTION:
URL:https://raineyendowed.com/event/year-13-coca-cola-industrial-visit/
ATTACH;FMTTYPE=image/png:https://raineyendowed.com/wp-content/uploads/2026/01/CocaCola.png
END:VEVENT
BEGIN:VEVENT
DTSTART;TZID=Europe/London:20260225T090000
DTEND;TZID=Europe/London:20260225T153000
DTSTAMP:20260423T093459
CREATED:20260108T093430Z
LAST-MODIFIED:20260108T093430Z
UID:18476-1772010000-1772033400@raineyendowed.com
SUMMARY:Magazine Photographs
DESCRIPTION:
URL:https://raineyendowed.com/event/magazine-photographs/
ATTACH;FMTTYPE=image/jpeg:https://raineyendowed.com/wp-content/uploads/2024/07/Photographs-1.jpg
END:VEVENT
BEGIN:VEVENT
DTSTART;TZID=Europe/London:20260303T130000
DTEND;TZID=Europe/London:20260303T153000
DTSTAMP:20260423T093459
CREATED:20260108T093527Z
LAST-MODIFIED:20260108T093527Z
UID:18478-1772542800-1772551800@raineyendowed.com
SUMMARY:Year 9 Parent Information Meeting
DESCRIPTION:
URL:https://raineyendowed.com/event/year-9-parent-information-meeting/
ATTACH;FMTTYPE=image/png:https://raineyendowed.com/wp-content/uploads/2025/11/Parent-Information-Meeting-1.png
END:VEVENT
BEGIN:VEVENT
DTSTART;VALUE=DATE:20260317
DTEND;VALUE=DATE:20260318
DTSTAMP:20260423T093459
CREATED:20260108T094012Z
LAST-MODIFIED:20260108T094012Z
UID:18486-1773705600-1773791999@raineyendowed.com
SUMMARY:Holiday
DESCRIPTION:
URL:https://raineyendowed.com/event/holiday/
ATTACH;FMTTYPE=image/png:https://raineyendowed.com/wp-content/uploads/2026/01/Happy-Saint-Patricks-Day-Banner-scaled.png
END:VEVENT
BEGIN:VEVENT
DTSTART;TZID=Europe/London:20260319T130000
DTEND;TZID=Europe/London:20260319T153000
DTSTAMP:20260423T093459
CREATED:20260108T093631Z
LAST-MODIFIED:20260108T093631Z
UID:18480-1773925200-1773934200@raineyendowed.com
SUMMARY:Year 12 Parent Information Meeting
DESCRIPTION:
URL:https://raineyendowed.com/event/year-12-parent-information-meeting-2/
ATTACH;FMTTYPE=image/png:https://raineyendowed.com/wp-content/uploads/2025/11/Parent-Information-Meeting-1.png
END:VEVENT
BEGIN:VEVENT
DTSTART;TZID=Europe/London:20260325T193000
DTEND;TZID=Europe/London:20260325T213000
DTSTAMP:20260423T093459
CREATED:20260108T093835Z
LAST-MODIFIED:20260108T093835Z
UID:18484-1774467000-1774474200@raineyendowed.com
SUMMARY:Spring Concert
DESCRIPTION:
URL:https://raineyendowed.com/event/spring-concert-3/
ATTACH;FMTTYPE=image/jpeg:https://raineyendowed.com/wp-content/uploads/2023/02/Spring-Concert-1.jpg
END:VEVENT
BEGIN:VEVENT
DTSTART;VALUE=DATE:20260330
DTEND;VALUE=DATE:20260411
DTSTAMP:20260423T093459
CREATED:20251201T122143Z
LAST-MODIFIED:20251201T122143Z
UID:18448-1774828800-1775865599@raineyendowed.com
SUMMARY:Easter Holiday
DESCRIPTION:
URL:https://raineyendowed.com/event/easter-holiday-3/
ATTACH;FMTTYPE=image/jpeg:https://raineyendowed.com/wp-content/uploads/2024/03/Easter-Holidays-1.jpg
END:VEVENT
END:VCALENDAR