BEGIN:VCALENDAR
VERSION:2.0
PRODID:-//Rainey Endowed School - ECPv6.15.11//NONSGML v1.0//EN
CALSCALE:GREGORIAN
METHOD:PUBLISH
X-ORIGINAL-URL:https://raineyendowed.com
X-WR-CALDESC:Events for Rainey Endowed School
REFRESH-INTERVAL;VALUE=DURATION:PT1H
X-Robots-Tag:noindex
X-PUBLISHED-TTL:PT1H
BEGIN:VTIMEZONE
TZID:Europe/London
BEGIN:DAYLIGHT
TZOFFSETFROM:+0000
TZOFFSETTO:+0100
TZNAME:BST
DTSTART:20250330T010000
END:DAYLIGHT
BEGIN:STANDARD
TZOFFSETFROM:+0100
TZOFFSETTO:+0000
TZNAME:GMT
DTSTART:20251026T010000
END:STANDARD
BEGIN:DAYLIGHT
TZOFFSETFROM:+0000
TZOFFSETTO:+0100
TZNAME:BST
DTSTART:20260329T010000
END:DAYLIGHT
BEGIN:STANDARD
TZOFFSETFROM:+0100
TZOFFSETTO:+0000
TZNAME:GMT
DTSTART:20261025T010000
END:STANDARD
BEGIN:DAYLIGHT
TZOFFSETFROM:+0000
TZOFFSETTO:+0100
TZNAME:BST
DTSTART:20270328T010000
END:DAYLIGHT
BEGIN:STANDARD
TZOFFSETFROM:+0100
TZOFFSETTO:+0000
TZNAME:GMT
DTSTART:20271031T010000
END:STANDARD
END:VTIMEZONE
BEGIN:VEVENT
DTSTART;VALUE=DATE:20260525
DTEND;VALUE=DATE:20260527
DTSTAMP:20260423T171612
CREATED:20260401T133835Z
LAST-MODIFIED:20260401T133947Z
UID:18816-1779667200-1779839999@raineyendowed.com
SUMMARY:Staff Development Day
DESCRIPTION:
URL:https://raineyendowed.com/event/staff-development-day-7/
ATTACH;FMTTYPE=image/jpeg:https://raineyendowed.com/wp-content/uploads/2023/12/Staff-Development-Day-1.jpg
END:VEVENT
BEGIN:VEVENT
DTSTART;VALUE=DATE:20260527
DTEND;VALUE=DATE:20260604
DTSTAMP:20260423T171612
CREATED:20260401T133924Z
LAST-MODIFIED:20260401T133924Z
UID:18818-1779840000-1780531199@raineyendowed.com
SUMMARY:Internal Exams
DESCRIPTION:
URL:https://raineyendowed.com/event/internal-exams-26/
ATTACH;FMTTYPE=image/jpeg:https://raineyendowed.com/wp-content/uploads/2023/12/Exams.jpg
END:VEVENT
BEGIN:VEVENT
DTSTART;VALUE=DATE:20260619
DTEND;VALUE=DATE:20260620
DTSTAMP:20260423T171612
CREATED:20260401T134211Z
LAST-MODIFIED:20260401T134211Z
UID:18822-1781827200-1781913599@raineyendowed.com
SUMMARY:Fun Sports Day
DESCRIPTION:
URL:https://raineyendowed.com/event/fun-sports-day/
ATTACH;FMTTYPE=image/png:https://raineyendowed.com/wp-content/uploads/2026/04/Sports-Day-1.png
END:VEVENT
BEGIN:VEVENT
DTSTART;VALUE=DATE:20260622
DTEND;VALUE=DATE:20260623
DTSTAMP:20260423T171612
CREATED:20260401T140027Z
LAST-MODIFIED:20260401T140027Z
UID:18831-1782086400-1782172799@raineyendowed.com
SUMMARY:Year 13 & 14 Trip to Tayto Park
DESCRIPTION:
URL:https://raineyendowed.com/event/year-13-14-trip-to-tayto-park/
ATTACH;FMTTYPE=image/jpeg:https://raineyendowed.com/wp-content/uploads/2026/04/Viking-Voyage-Tayto-Park.jpg
END:VEVENT
BEGIN:VEVENT
DTSTART;VALUE=DATE:20260622
DTEND;VALUE=DATE:20260627
DTSTAMP:20260423T171612
CREATED:20260401T135531Z
LAST-MODIFIED:20260401T135531Z
UID:18825-1782086400-1782518399@raineyendowed.com
SUMMARY:Year 9 Madrid Trip
DESCRIPTION:
URL:https://raineyendowed.com/event/year-9-madrid-trip/
ATTACH;FMTTYPE=image/jpeg:https://raineyendowed.com/wp-content/uploads/2026/04/Madrid-Sunset-Panorama.jpg
END:VEVENT
BEGIN:VEVENT
DTSTART;VALUE=DATE:20260622
DTEND;VALUE=DATE:20260627
DTSTAMP:20260423T171612
CREATED:20260401T135724Z
LAST-MODIFIED:20260401T135724Z
UID:18828-1782086400-1782518399@raineyendowed.com
SUMMARY:Year 10 Spain Trip
DESCRIPTION:
URL:https://raineyendowed.com/event/year-10-spain-trip/
ATTACH;FMTTYPE=image/jpeg:https://raineyendowed.com/wp-content/uploads/2026/04/Acorn.jpg
END:VEVENT
BEGIN:VEVENT
DTSTART;VALUE=DATE:20260623
DTEND;VALUE=DATE:20260626
DTSTAMP:20260423T171612
CREATED:20260402T075538Z
LAST-MODIFIED:20260402T080420Z
UID:18834-1782172800-1782431999@raineyendowed.com
SUMMARY:Year 8 Residential
DESCRIPTION:
URL:https://raineyendowed.com/event/year-8-residential/
ATTACH;FMTTYPE=image/jpeg:https://raineyendowed.com/wp-content/uploads/2026/04/ToddsLeap-1.jpg
END:VEVENT
END:VCALENDAR